BEGIN:VCALENDAR
VERSION:2.0
PRODID:-//Central Mississippi Down Syndrome Society - ECPv6.15.12.2//NONSGML v1.0//EN
CALSCALE:GREGORIAN
METHOD:PUBLISH
X-WR-CALNAME:Central Mississippi Down Syndrome Society
X-ORIGINAL-URL:https://cmdss.org
X-WR-CALDESC:Events for Central Mississippi Down Syndrome Society
REFRESH-INTERVAL;VALUE=DURATION:PT1H
X-Robots-Tag:noindex
X-PUBLISHED-TTL:PT1H
BEGIN:VTIMEZONE
TZID:America/Chicago
BEGIN:DAYLIGHT
TZOFFSETFROM:-0600
TZOFFSETTO:-0500
TZNAME:CDT
DTSTART:20240310T080000
END:DAYLIGHT
BEGIN:STANDARD
TZOFFSETFROM:-0500
TZOFFSETTO:-0600
TZNAME:CST
DTSTART:20241103T070000
END:STANDARD
BEGIN:DAYLIGHT
TZOFFSETFROM:-0600
TZOFFSETTO:-0500
TZNAME:CDT
DTSTART:20250309T080000
END:DAYLIGHT
BEGIN:STANDARD
TZOFFSETFROM:-0500
TZOFFSETTO:-0600
TZNAME:CST
DTSTART:20251102T070000
END:STANDARD
BEGIN:DAYLIGHT
TZOFFSETFROM:-0600
TZOFFSETTO:-0500
TZNAME:CDT
DTSTART:20260308T080000
END:DAYLIGHT
BEGIN:STANDARD
TZOFFSETFROM:-0500
TZOFFSETTO:-0600
TZNAME:CST
DTSTART:20261101T070000
END:STANDARD
END:VTIMEZONE
BEGIN:VEVENT
DTSTART;TZID=America/Chicago:20250329T180000
DTEND;TZID=America/Chicago:20250329T203000
DTSTAMP:20260423T035541
CREATED:20250127T165752Z
LAST-MODIFIED:20250217T224254Z
UID:1649-1743271200-1743280200@cmdss.org
SUMMARY:2025 Second Annual Art Show and Silent Auction Fundraising Event
DESCRIPTION:Description: Join us at Lake Caroline golf club for a semi-formal event celebrating our buddies and their creativity. There will be a silent auction that showcases local artists as well as buddy artwork\, drinks\, and light hors d’oeuvres. Tickets can be purchased at the link below. \nLocation: Lake Caroline Golf Club- Madison\, MS \nCost: $25 per person \nRegistration Form: https://www.classy.org/event/2nd-annual-cmdss-art-show-and-silent-auction-gallery-on-the-greens/e649543
URL:https://cmdss.org/event/2025-second-annual-art-show-and-silent-auction-fundraising-event/
LOCATION:MS
END:VEVENT
END:VCALENDAR