BEGIN:VCALENDAR
VERSION:2.0
PRODID:-//Central Mississippi Down Syndrome Society - ECPv6.15.12.2//NONSGML v1.0//EN
CALSCALE:GREGORIAN
METHOD:PUBLISH
X-WR-CALNAME:Central Mississippi Down Syndrome Society
X-ORIGINAL-URL:https://cmdss.org
X-WR-CALDESC:Events for Central Mississippi Down Syndrome Society
REFRESH-INTERVAL;VALUE=DURATION:PT1H
X-Robots-Tag:noindex
X-PUBLISHED-TTL:PT1H
BEGIN:VTIMEZONE
TZID:America/Chicago
BEGIN:DAYLIGHT
TZOFFSETFROM:-0600
TZOFFSETTO:-0500
TZNAME:CDT
DTSTART:20240310T080000
END:DAYLIGHT
BEGIN:STANDARD
TZOFFSETFROM:-0500
TZOFFSETTO:-0600
TZNAME:CST
DTSTART:20241103T070000
END:STANDARD
BEGIN:DAYLIGHT
TZOFFSETFROM:-0600
TZOFFSETTO:-0500
TZNAME:CDT
DTSTART:20250309T080000
END:DAYLIGHT
BEGIN:STANDARD
TZOFFSETFROM:-0500
TZOFFSETTO:-0600
TZNAME:CST
DTSTART:20251102T070000
END:STANDARD
BEGIN:DAYLIGHT
TZOFFSETFROM:-0600
TZOFFSETTO:-0500
TZNAME:CDT
DTSTART:20260308T080000
END:DAYLIGHT
BEGIN:STANDARD
TZOFFSETFROM:-0500
TZOFFSETTO:-0600
TZNAME:CST
DTSTART:20261101T070000
END:STANDARD
END:VTIMEZONE
BEGIN:VEVENT
DTSTART;TZID=America/Chicago:20250823T080000
DTEND;TZID=America/Chicago:20250823T170000
DTSTAMP:20260423T091333
CREATED:20250814T151453Z
LAST-MODIFIED:20250814T151638Z
UID:1691-1755936000-1755968400@cmdss.org
SUMMARY:Buddy Walk Dance Class with Haddie
DESCRIPTION:Haddie will be teaching our buddies a dance for this year’s 2025 Buddy Walk.\n\nDates & Times:\nAugust 23\, 2025 – 10:00 a.m. to 10:45 a.m.\nAugust 30\, 2025 – 10:00 a.m. to 10:45 a.m.\nSeptember 6\, 2025 – 10:00 a.m. to 10:45 a.m.\nSeptember 13\, 2025 – 10:00 a.m. to 10:45 a.m.\nSeptember 20\, 2025 – 10:00 a.m. to 10:45 a.m.\nSeptember 27\, 2025 – 10:00 a.m. to 10:45 a.m.\n\nHere is the sign up genius for you to sign up for the dance classes.
URL:https://cmdss.org/event/buddy-walk-dance-class-with-haddie-2/
LOCATION:MS
END:VEVENT
END:VCALENDAR