BEGIN:VCALENDAR
VERSION:2.0
PRODID:-//Central Mississippi Down Syndrome Society - ECPv6.15.12.2//NONSGML v1.0//EN
CALSCALE:GREGORIAN
METHOD:PUBLISH
X-WR-CALNAME:Central Mississippi Down Syndrome Society
X-ORIGINAL-URL:https://cmdss.org
X-WR-CALDESC:Events for Central Mississippi Down Syndrome Society
REFRESH-INTERVAL;VALUE=DURATION:PT1H
X-Robots-Tag:noindex
X-PUBLISHED-TTL:PT1H
BEGIN:VTIMEZONE
TZID:America/Chicago
BEGIN:DAYLIGHT
TZOFFSETFROM:-0600
TZOFFSETTO:-0500
TZNAME:CDT
DTSTART:20230312T080000
END:DAYLIGHT
BEGIN:STANDARD
TZOFFSETFROM:-0500
TZOFFSETTO:-0600
TZNAME:CST
DTSTART:20231105T070000
END:STANDARD
BEGIN:DAYLIGHT
TZOFFSETFROM:-0600
TZOFFSETTO:-0500
TZNAME:CDT
DTSTART:20240310T080000
END:DAYLIGHT
BEGIN:STANDARD
TZOFFSETFROM:-0500
TZOFFSETTO:-0600
TZNAME:CST
DTSTART:20241103T070000
END:STANDARD
BEGIN:DAYLIGHT
TZOFFSETFROM:-0600
TZOFFSETTO:-0500
TZNAME:CDT
DTSTART:20250309T080000
END:DAYLIGHT
BEGIN:STANDARD
TZOFFSETFROM:-0500
TZOFFSETTO:-0600
TZNAME:CST
DTSTART:20251102T070000
END:STANDARD
END:VTIMEZONE
BEGIN:VEVENT
DTSTART;TZID=America/Chicago:20241212T173000
DTEND;TZID=America/Chicago:20241212T183000
DTSTAMP:20260423T092759
CREATED:20240909T172128Z
LAST-MODIFIED:20240909T172128Z
UID:1631-1734024600-1734028200@cmdss.org
SUMMARY:Christmas Cookie Decorating with Beth! (All Ages!)
DESCRIPTION:Description: Join us at the Buddy Center to decorate Christmas Cookies with Beth! \nTarget Age/Participants: Buddies only\, all ages! \nParticipant Limit: 20 \nRegistration Form: http://weblink.donorperfect.com/CookieDecoratingDec1224
URL:https://cmdss.org/event/christmas-cookie-decorating-with-beth-all-ages/
LOCATION:The Buddy Center\, 667 US-51 Suite C\, Ridgeland\, MS\, 39157\, United States
END:VEVENT
BEGIN:VEVENT
DTSTART;TZID=America/Chicago:20241116T110000
DTEND;TZID=America/Chicago:20241116T123000
DTSTAMP:20260423T092759
CREATED:20240909T141112Z
LAST-MODIFIED:20240909T141131Z
UID:1624-1731754800-1731760200@cmdss.org
SUMMARY:JAC: November (Kindergarten+)
DESCRIPTION:Description: Buddies are invited to come learn with our friends from JAC! \nTarget Age/Participants: Buddies\, Kindergarten+ \nParticipant Limit: 19 \nRegistration Form: http://weblink.donorperfect.com/JACNov2024
URL:https://cmdss.org/event/jac-november-kindergarten/
LOCATION:The Buddy Center\, 667 US-51 Suite C\, Ridgeland\, MS\, 39157\, United States
END:VEVENT
BEGIN:VEVENT
DTSTART;TZID=America/Chicago:20241115T173000
DTEND;TZID=America/Chicago:20241115T190000
DTSTAMP:20260423T092759
CREATED:20240909T142416Z
LAST-MODIFIED:20240909T142416Z
UID:1626-1731691800-1731697200@cmdss.org
SUMMARY:Family Game Night (All Ages!)
DESCRIPTION:Description: Bring the whole family to join in on a night of food\, fun\, and fellowship with friends! This month will feature a turkey-themed game to celebrate Thanksgiving! \nTarget Age/Participants: Buddies of all ages and their families! \nParticipant Limit: 25 \nRegistration Form: http://weblink.donorperfect.com/FamilyGameNightNovember2024
URL:https://cmdss.org/event/family-game-night-all-ages-12/
LOCATION:The Buddy Center\, 667 US-51 Suite C\, Ridgeland\, MS\, 39157\, United States
END:VEVENT
BEGIN:VEVENT
DTSTART;TZID=America/Chicago:20241109T100000
DTEND;TZID=America/Chicago:20241109T104500
DTSTAMP:20260423T092759
CREATED:20241022T184043Z
LAST-MODIFIED:20241022T184458Z
UID:1635-1731146400-1731149100@cmdss.org
SUMMARY:BuddyFit: Move It & Groove It (Ages 10+)
DESCRIPTION:Description: Join us at the Buddy Center to get moving in this 45 minute dance class!!! \nTarget Age/Participants: Buddies only\, ages 10+ \nParticipant Limit: 15 \nRegistration Form: http://weblink.donorperfect.com/MoveItandGrooveItNov924
URL:https://cmdss.org/event/buddyfit-move-it-groove-it-ages-10-8/
LOCATION:The Buddy Center\, 667 US-51 Suite C\, Ridgeland\, MS\, 39157\, United States
END:VEVENT
BEGIN:VEVENT
DTSTART;TZID=America/Chicago:20241105T173000
DTEND;TZID=America/Chicago:20241210T183000
DTSTAMP:20260423T092759
CREATED:20241027T000518Z
LAST-MODIFIED:20241027T000518Z
UID:1636-1730827800-1733855400@cmdss.org
SUMMARY:Buddy Blend November & December Dates!
DESCRIPTION:Description: Buddies are invited to come package Buddy Blend Coffee. This is a great program to help teach job skills! \nTarget Age/Participants: Buddies\, ages 16+ \nParticipant Limit: 5 per class \nRegistration Form: https://www.signupgenius.com/go/10C0B4FA5A82DA0FCC16-52748381-buddy
URL:https://cmdss.org/event/buddy-blend-november-december-dates/
LOCATION:The Buddy Center\, 667 US-51 Suite C\, Ridgeland\, MS\, 39157\, United States
END:VEVENT
BEGIN:VEVENT
DTSTART;TZID=America/Chicago:20241026T110000
DTEND;TZID=America/Chicago:20241026T123000
DTSTAMP:20260423T092759
CREATED:20240909T135021Z
LAST-MODIFIED:20240909T135844Z
UID:1623-1729940400-1729945800@cmdss.org
SUMMARY:JAC: October (Kindergarten+)
DESCRIPTION:Description: Buddies are invited to come learn with our friends from JAC! \nTarget Age/Participants: Buddies\, Kindergarten+ \nParticipant Limit: 19 \nRegistration Form: http://weblink.donorperfect.com/JACOct2024
URL:https://cmdss.org/event/jac-creating-scrapbooks-kindergarten-3/
LOCATION:The Buddy Center\, 667 US-51 Suite C\, Ridgeland\, MS\, 39157\, United States
END:VEVENT
BEGIN:VEVENT
DTSTART;TZID=America/Chicago:20241024T173000
DTEND;TZID=America/Chicago:20241024T183000
DTSTAMP:20260423T092759
CREATED:20240909T145715Z
LAST-MODIFIED:20240909T145715Z
UID:1628-1729791000-1729794600@cmdss.org
SUMMARY:TikTok Club! (Ages 10+)
DESCRIPTION:Description: Join us at the Buddy Center as we recreate viral TikTok trends for our social media! \nTarget Age/Participants: Buddies only\, ages 10+ \nParticipant Limit: 15 \nRegistration Form: http://weblink.donorperfect.com/TikTokClubOct2024
URL:https://cmdss.org/event/tiktok-club-ages-10-2/
LOCATION:The Buddy Center\, 667 US-51 Suite C\, Ridgeland\, MS\, 39157\, United States
END:VEVENT
BEGIN:VEVENT
DTSTART;TZID=America/Chicago:20240926T173000
DTEND;TZID=America/Chicago:20240926T183000
DTSTAMP:20260423T092759
CREATED:20240418T183817Z
LAST-MODIFIED:20240722T181953Z
UID:1563-1727371800-1727375400@cmdss.org
SUMMARY:Gardening Party with Cedar Hills Gardening (Ages 12+)
DESCRIPTION:Description: Buddies are invited to come and pot their own plant and learn about what it takes to be a plant owner. \nTarget Age/Participants: Buddies\, ages 12+ \nParticipant Limit: 12 \nRegistration Form: http://weblink.donorperfect.com/GardeningPartySept2624 \n  \n 
URL:https://cmdss.org/event/gardening-party-with-cedar-hills-gardening/
LOCATION:The Buddy Center\, 667 US-51 Suite C\, Ridgeland\, MS\, 39157\, United States
END:VEVENT
BEGIN:VEVENT
DTSTART;TZID=America/Chicago:20240920T173000
DTEND;TZID=America/Chicago:20240920T190000
DTSTAMP:20260423T092759
CREATED:20240905T202829Z
LAST-MODIFIED:20240909T135650Z
UID:1620-1726853400-1726858800@cmdss.org
SUMMARY:Family Game Night (All Ages!)
DESCRIPTION:Description: Bring the whole family to join in on a night of food\, fun\, and fellowship with friends! \nTarget Age/Participants: Buddies of all ages and their families! \nParticipant Limit: 25 \nRegistration Form: http://weblink.donorperfect.com/FamilyGameNightSep2024
URL:https://cmdss.org/event/family-game-night-all-ages-10/
LOCATION:The Buddy Center\, 667 US-51 Suite C\, Ridgeland\, MS\, 39157\, United States
END:VEVENT
BEGIN:VEVENT
DTSTART;TZID=America/Chicago:20240919T173000
DTEND;TZID=America/Chicago:20240919T183000
DTSTAMP:20260423T092759
CREATED:20240909T145046Z
LAST-MODIFIED:20240909T145046Z
UID:1627-1726767000-1726770600@cmdss.org
SUMMARY:TikTok Club! (Ages 10+)
DESCRIPTION:Description: Join us at the Buddy Center as we recreate viral TikTok trends for our social media! \nTarget Age/Participants: Buddies only\, ages 10+ \nParticipant Limit: 15 \nRegistration Form: http://weblink.donorperfect.com/TikTokClubSept2024
URL:https://cmdss.org/event/tiktok-club-ages-10/
LOCATION:The Buddy Center\, 667 US-51 Suite C\, Ridgeland\, MS\, 39157\, United States
END:VEVENT
BEGIN:VEVENT
DTSTART;TZID=America/Chicago:20240914T110000
DTEND;TZID=America/Chicago:20240914T123000
DTSTAMP:20260423T092759
CREATED:20240905T221719Z
LAST-MODIFIED:20240909T135618Z
UID:1622-1726311600-1726317000@cmdss.org
SUMMARY:JAC: Creating Scrapbooks! (Kindergarten+)
DESCRIPTION:Description: Buddies are invited to come make scrapbooks with our friends from JAC! \nTarget Age/Participants: Buddies\, Kindergarten+ \nParticipant Limit: 19 \nRegistration Form: http://weblink.donorperfect.com/JACSept2024
URL:https://cmdss.org/event/jac-creating-scrapbooks-kindergarten-2/
LOCATION:The Buddy Center\, 667 US-51 Suite C\, Ridgeland\, MS\, 39157\, United States
END:VEVENT
BEGIN:VEVENT
DTSTART;TZID=America/Chicago:20240827T173000
DTEND;TZID=America/Chicago:20241029T183000
DTSTAMP:20260423T092759
CREATED:20250106T192950Z
LAST-MODIFIED:20250106T192950Z
UID:1640-1724779800-1730226600@cmdss.org
SUMMARY:Buddy Blend Dates for January and February!
DESCRIPTION:Description: Buddies are invited to come package Buddy Blend Coffee. This is a great program to help teach job skills! \nTarget Age/Participants: Buddies\, ages 16+ \nParticipant Limit: 5 per class \nRegistration Form: https://www.signupgenius.com/go/10C0B4FA5A82DA0FCC16-54236700-january
URL:https://cmdss.org/event/buddy-blend-dates-for-january-and-february/
LOCATION:The Buddy Center\, 667 US-51 Suite C\, Ridgeland\, MS\, 39157\, United States
END:VEVENT
BEGIN:VEVENT
DTSTART;TZID=America/Chicago:20240827T173000
DTEND;TZID=America/Chicago:20241029T183000
DTSTAMP:20260423T092759
CREATED:20240806T161131Z
LAST-MODIFIED:20240806T161131Z
UID:1616-1724779800-1730226600@cmdss.org
SUMMARY:Buddy Blend Fall Dates!
DESCRIPTION:Description: Buddies are invited to come package Buddy Blend Coffee. This is a great program to help teach job skills! \nTarget Age/Participants: Buddies\, ages 16+ \nParticipant Limit: 5 per class \nRegistration Form: https://www.signupgenius.com/go/10C0B4FA5A82DA0FCC16-50564110-buddy
URL:https://cmdss.org/event/buddy-blend-fall-dates/
LOCATION:The Buddy Center\, 667 US-51 Suite C\, Ridgeland\, MS\, 39157\, United States
END:VEVENT
BEGIN:VEVENT
DTSTART;TZID=America/Chicago:20240824T100000
DTEND;TZID=America/Chicago:20241005T104500
DTSTAMP:20260423T092759
CREATED:20240805T180625Z
LAST-MODIFIED:20240805T192548Z
UID:1614-1724493600-1728125100@cmdss.org
SUMMARY:BuddyFit: Buddy Walk Dance Crew (Ages 12+)
DESCRIPTION:Description: This 6 week dance class will teach buddies a dance that they will perform live on October 5th at the Buddy Walk! \nTarget Age/Participants: Buddies only\, ages 12+ \nParticipant Limit: 15 \nRegistration Form: http://weblink.donorperfect.com/BuddyWalkDanceCrewAugOct2024
URL:https://cmdss.org/event/buddyfit-buddy-walk-dance-crew-ages-12/
LOCATION:The Buddy Center\, 667 US-51 Suite C\, Ridgeland\, MS\, 39157\, United States
END:VEVENT
BEGIN:VEVENT
DTSTART;TZID=America/Chicago:20240822T173000
DTEND;TZID=America/Chicago:20240912T183000
DTSTAMP:20260423T092759
CREATED:20240805T174542Z
LAST-MODIFIED:20240805T174542Z
UID:1613-1724347800-1726165800@cmdss.org
SUMMARY:Skills for Life: Literacy for Life: Reading Recipes (Ages 15+)
DESCRIPTION:Description: This 4-week class will focus on literacy skills which will help the participant develop more independence in the kitchen.  \n Dates: Thursdays\, August 22- September 12\, 5:30PM-6:30PM \nTarget Age/Participants: Buddies only\, ages 15+ \nParticipant Limit: 8  \nRegistration Form: http://weblink.donorperfect.com/LiteracyforLifeAugSept2024
URL:https://cmdss.org/event/skills-for-life-literacy-for-life-reading-recipes-ages-15/
LOCATION:The Buddy Center\, 667 US-51 Suite C\, Ridgeland\, MS\, 39157\, United States
END:VEVENT
BEGIN:VEVENT
DTSTART;TZID=America/Chicago:20240809T173000
DTEND;TZID=America/Chicago:20240809T190000
DTSTAMP:20260423T092759
CREATED:20240522T175203Z
LAST-MODIFIED:20240522T175203Z
UID:1595-1723224600-1723230000@cmdss.org
SUMMARY:Family Game Night (All Ages!)
DESCRIPTION:Description: Bring the whole family to join in on a night of food\, fun\, and fellowship with friends! \nTarget Age/Participants: Buddies of all ages and their families! \nParticipant Limit: 25 \nRegistration Form: http://weblink.donorperfect.com/FamilyGameNightAugust924
URL:https://cmdss.org/event/family-game-night-all-ages-9/
LOCATION:The Buddy Center\, 667 US-51 Suite C\, Ridgeland\, MS\, 39157\, United States
END:VEVENT
BEGIN:VEVENT
DTSTART;TZID=America/Chicago:20240803T100000
DTEND;TZID=America/Chicago:20240803T104500
DTSTAMP:20260423T092759
CREATED:20240729T174657Z
LAST-MODIFIED:20240729T174657Z
UID:1610-1722679200-1722681900@cmdss.org
SUMMARY:BuddyFit: Move It & Groove It (Ages 10+)
DESCRIPTION:Description: Join us at the Buddy Center to get moving and have fun with Emma Grace & Haddie! \nTarget Age/Participants: Buddies only\, ages 10+ \nParticipant Limit: 15 \nRegistration Form: http://weblink.donorperfect.com/PopUpDanceClassAugust2024
URL:https://cmdss.org/event/buddyfit-move-it-groove-it-ages-10-7/
LOCATION:The Buddy Center\, 667 US-51 Suite C\, Ridgeland\, MS\, 39157\, United States
END:VEVENT
BEGIN:VEVENT
DTSTART;TZID=America/Chicago:20240727T100000
DTEND;TZID=America/Chicago:20240727T104500
DTSTAMP:20260423T092759
CREATED:20240522T182847Z
LAST-MODIFIED:20240522T182847Z
UID:1597-1722074400-1722077100@cmdss.org
SUMMARY:BuddyFit: Move It & Groove It (Ages 10+)
DESCRIPTION:Description: Join us at the Buddy Center to get moving and have fun with Emma Grace & Haddie! \nTarget Age/Participants: Buddies only\, ages 10+ \nParticipant Limit: 15 \nRegistration Form: http://weblink.donorperfect.com/MoveitandGrooveItJuly2724
URL:https://cmdss.org/event/buddyfit-move-it-groove-it-ages-10-6/
LOCATION:The Buddy Center\, 667 US-51 Suite C\, Ridgeland\, MS\, 39157\, United States
END:VEVENT
BEGIN:VEVENT
DTSTART;TZID=America/Chicago:20240719T173000
DTEND;TZID=America/Chicago:20240719T190000
DTSTAMP:20260423T092759
CREATED:20240522T174706Z
LAST-MODIFIED:20240701T204151Z
UID:1594-1721410200-1721415600@cmdss.org
SUMMARY:Family Game Night (All Ages!)
DESCRIPTION:Description: Bring the whole family to join in on a night of food\, fun\, and fellowship with friends! \nTarget Age/Participants: Buddies of all ages and their families! \nParticipant Limit: 25 \nRegistration Form: http://weblink.donorperfect.com/FamilyGameNightJuly1924 
URL:https://cmdss.org/event/family-game-night-all-ages-8/
LOCATION:The Buddy Center\, 667 US-51 Suite C\, Ridgeland\, MS\, 39157\, United States
END:VEVENT
BEGIN:VEVENT
DTSTART;TZID=America/Chicago:20240625T183000
DTEND;TZID=America/Chicago:20240625T210000
DTSTAMP:20260423T092759
CREATED:20240325T201859Z
LAST-MODIFIED:20240522T175446Z
UID:1548-1719340200-1719349200@cmdss.org
SUMMARY:Dad's Night Out: Braves Suite Night!
DESCRIPTION:Description: Join us at Trustmark Park on Tuesday\, June 25th\, at 6:30PM for a fun night of baseball and fellowship in our very own suite! \nTarget Participants: Dads only! \nParticipant Limit: 20 \nRegistration Form: http://weblink.donorperfect.com/DadsNightOutJune252024
URL:https://cmdss.org/event/dads-night-out-braves-suite-night/
LOCATION:Trustmark Park
END:VEVENT
BEGIN:VEVENT
DTSTART;TZID=America/Chicago:20240621T173000
DTEND;TZID=America/Chicago:20240621T190000
DTSTAMP:20260423T092759
CREATED:20240417T175125Z
LAST-MODIFIED:20240417T175125Z
UID:1559-1718991000-1718996400@cmdss.org
SUMMARY:Family Game Night: (All Ages!)
DESCRIPTION:Description: Bring the whole family to join in on a night of food\, fun\, and fellowship with friends! \nTarget Age/Participants: Buddies of all ages and their families! \nParticipant Limit: 25 \nRegistration Form: http://weblink.donorperfect.com/FamilyGameNightJune2124
URL:https://cmdss.org/event/family-game-night-all-ages-7/
LOCATION:The Buddy Center\, 667 US-51 Suite C\, Ridgeland\, MS\, 39157\, United States
END:VEVENT
BEGIN:VEVENT
DTSTART;TZID=America/Chicago:20240614T173000
DTEND;TZID=America/Chicago:20240614T190000
DTSTAMP:20260423T092759
CREATED:20240206T202730Z
LAST-MODIFIED:20240206T202912Z
UID:1515-1718386200-1718391600@cmdss.org
SUMMARY:Let’s Get Creative: Father's Day Gift Project (Ages 6+)
DESCRIPTION:Description: Join us as we make a surprise gift for their father! Participants will create the gift and then wrap it to give to their dad on Father’s Day! \nTarget Age/Participants: Buddies\, age 6+ \nParticipant Limit: 15 \nRegistration Form: http://weblink.donorperfect.com/FathersDayJune1424 \n 
URL:https://cmdss.org/event/lets-get-creative-fathers-day-gift-project-ages-6/
LOCATION:The Buddy Center\, 667 US-51 Suite C\, Ridgeland\, MS\, 39157\, United States
END:VEVENT
BEGIN:VEVENT
DTSTART;TZID=America/Chicago:20240608T100000
DTEND;TZID=America/Chicago:20240608T104500
DTSTAMP:20260423T092759
CREATED:20240522T182144Z
LAST-MODIFIED:20240522T182144Z
UID:1596-1717840800-1717843500@cmdss.org
SUMMARY:BuddyFit: Move It & Groove It (Ages 10+)
DESCRIPTION:Description: Join us at the Buddy Center to get moving and have fun with Emma Grace & Haddie! \nTarget Age/Participants: Buddies only\, ages 10+ \nParticipant Limit: 15 \nRegistration Form: http://weblink.donorperfect.com/MoveItandGrooveItJune824
URL:https://cmdss.org/event/buddyfit-move-it-groove-it-ages-10-5/
LOCATION:The Buddy Center\, 667 US-51 Suite C\, Ridgeland\, MS\, 39157\, United States
END:VEVENT
BEGIN:VEVENT
DTSTART;TZID=America/Chicago:20240518T113000
DTEND;TZID=America/Chicago:20240518T130000
DTSTAMP:20260423T092759
CREATED:20240425T160243Z
LAST-MODIFIED:20240425T160243Z
UID:1567-1716031800-1716037200@cmdss.org
SUMMARY:JAC: Creating Scrapbooks! (Kindergarten+)
DESCRIPTION:Description: Buddies are invited to come make scrapbooks with our friends from JAC! \nTarget Age/Participants: Buddies\, Kindergarten+ \nParticipant Limit: 19 \nRegistration Form: http://weblink.donorperfect.com/JACMay1824
URL:https://cmdss.org/event/jac-creating-scrapbooks-kindergarten/
LOCATION:The Buddy Center\, 667 US-51 Suite C\, Ridgeland\, MS\, 39157\, United States
END:VEVENT
BEGIN:VEVENT
DTSTART;TZID=America/Chicago:20240517T173000
DTEND;TZID=America/Chicago:20240517T190000
DTSTAMP:20260423T092759
CREATED:20240105T183613Z
LAST-MODIFIED:20240105T183613Z
UID:1481-1715967000-1715972400@cmdss.org
SUMMARY:Family Game Night (All Ages!)
DESCRIPTION:Description: Bring the whole family to join in on a night of food\, fun\, and fellowship with friends! \nTarget Age/Participants: Buddies of all ages and their families! \nParticipant Limit: 25 \nRegistration Form: http://weblink.donorperfect.com/FamilyGameNightMay2024
URL:https://cmdss.org/event/family-game-night-all-ages-6/
LOCATION:The Buddy Center\, 667 US-51 Suite C\, Ridgeland\, MS\, 39157\, United States
END:VEVENT
BEGIN:VEVENT
DTSTART;TZID=America/Chicago:20240511T103000
DTEND;TZID=America/Chicago:20240511T113000
DTSTAMP:20260423T092759
CREATED:20240425T171534Z
LAST-MODIFIED:20240425T171534Z
UID:1568-1715423400-1715427000@cmdss.org
SUMMARY:Let’s Get Creative: Buddy Walk Quilt Art (All Ages!)
DESCRIPTION:Description: Buddies of all ages are invited to come make art that’ll be made into a quilt for the Buddy Walk. \nTarget Age/Participants: Buddies of all ages! \nParticipant Limit: 40 \nRegistration Form: http://weblink.donorperfect.com/BuddyWalkQuiltArtMay1124
URL:https://cmdss.org/event/lets-get-creative-buddy-walk-quilt-art-all-ages/
LOCATION:The Buddy Center\, 667 US-51 Suite C\, Ridgeland\, MS\, 39157\, United States
END:VEVENT
BEGIN:VEVENT
DTSTART;TZID=America/Chicago:20240509T173000
DTEND;TZID=America/Chicago:20240509T183000
DTSTAMP:20260423T092759
CREATED:20240425T172232Z
LAST-MODIFIED:20240425T172537Z
UID:1569-1715275800-1715279400@cmdss.org
SUMMARY:Let's Get Creative: Buddy Walk Quilt Art (All ages!)
DESCRIPTION:Description: Buddies of all ages are invited to come make art that’ll be made into a quilt for the Buddy Walk. \nTarget Age/Participants: Buddies of all ages! \nParticipant Limit: 40 \nRegistration Form: http://weblink.donorperfect.com/BuddyWalkQuiltArtMay924
URL:https://cmdss.org/event/1569/
LOCATION:The Buddy Center\, 667 US-51 Suite C\, Ridgeland\, MS\, 39157\, United States
END:VEVENT
BEGIN:VEVENT
DTSTART;TZID=America/Chicago:20240507T173000
DTEND;TZID=America/Chicago:20240507T183000
DTSTAMP:20260423T092759
CREATED:20240208T172201Z
LAST-MODIFIED:20240208T213901Z
UID:1516-1715103000-1715106600@cmdss.org
SUMMARY:Let’s Get Creative: Mother's Day Gift Project (Ages 6+)
DESCRIPTION:Description: Buddies are invited to come make a surprise gift for their moms to celebrate the upcoming holiday! \nTarget Age/Participants: Buddies\, ages 6+ \nParticipant Limit: 15 \nRegistration Form: http://weblink.donorperfect.com/MothersDayMay724
URL:https://cmdss.org/event/lets-get-creative-mothers-day-gift-project-ages-6/
LOCATION:The Buddy Center\, 667 US-51 Suite C\, Ridgeland\, MS\, 39157\, United States
END:VEVENT
BEGIN:VEVENT
DTSTART;TZID=America/Chicago:20240504T170000
DTEND;TZID=America/Chicago:20240504T191500
DTSTAMP:20260423T092759
CREATED:20240305T170355Z
LAST-MODIFIED:20240305T170405Z
UID:1541-1714842000-1714850100@cmdss.org
SUMMARY:Family Night: May the Fourth Be With You Party (All Ages!)
DESCRIPTION:Description: Join us as we have a Star Wars themed party for buddies and their families. We will have games\, treats\, and fellowship! Don’t forget to dress up as your favorite character.  \nTarget Age/Participants: Buddies of all ages and their families! \nParticipant Limit: 15 Families \nRegistration Form: http://weblink.donorperfect.com/MaytheFourthPartyMay424
URL:https://cmdss.org/event/family-night-may-the-fourth-be-with-you-party-all-ages/
LOCATION:The Buddy Center\, 667 US-51 Suite C\, Ridgeland\, MS\, 39157\, United States
END:VEVENT
BEGIN:VEVENT
DTSTART;TZID=America/Chicago:20240426T173000
DTEND;TZID=America/Chicago:20240426T190000
DTSTAMP:20260423T092759
CREATED:20240105T183357Z
LAST-MODIFIED:20240105T183357Z
UID:1480-1714152600-1714158000@cmdss.org
SUMMARY:Family Game Night (All Ages!)
DESCRIPTION:Description: Bring the whole family to join in on a night of food\, fun\, and fellowship with friends! \nTarget Age/Participants: Buddies of all ages and their families! \nParticipant Limit: 25 \nRegistration Form: http://weblink.donorperfect.com/FamilyGameNightApr2024
URL:https://cmdss.org/event/family-game-night-all-ages-5/
LOCATION:The Buddy Center\, 667 US-51 Suite C\, Ridgeland\, MS\, 39157\, United States
END:VEVENT
END:VCALENDAR