BEGIN:VCALENDAR
VERSION:2.0
PRODID:-//Central Mississippi Down Syndrome Society - ECPv6.15.12.2//NONSGML v1.0//EN
CALSCALE:GREGORIAN
METHOD:PUBLISH
X-ORIGINAL-URL:https://cmdss.org
X-WR-CALDESC:Events for Central Mississippi Down Syndrome Society
REFRESH-INTERVAL;VALUE=DURATION:PT1H
X-Robots-Tag:noindex
X-PUBLISHED-TTL:PT1H
BEGIN:VTIMEZONE
TZID:America/Chicago
BEGIN:DAYLIGHT
TZOFFSETFROM:-0600
TZOFFSETTO:-0500
TZNAME:CDT
DTSTART:20240310T080000
END:DAYLIGHT
BEGIN:STANDARD
TZOFFSETFROM:-0500
TZOFFSETTO:-0600
TZNAME:CST
DTSTART:20241103T070000
END:STANDARD
BEGIN:DAYLIGHT
TZOFFSETFROM:-0600
TZOFFSETTO:-0500
TZNAME:CDT
DTSTART:20250309T080000
END:DAYLIGHT
BEGIN:STANDARD
TZOFFSETFROM:-0500
TZOFFSETTO:-0600
TZNAME:CST
DTSTART:20251102T070000
END:STANDARD
BEGIN:DAYLIGHT
TZOFFSETFROM:-0600
TZOFFSETTO:-0500
TZNAME:CDT
DTSTART:20260308T080000
END:DAYLIGHT
BEGIN:STANDARD
TZOFFSETFROM:-0500
TZOFFSETTO:-0600
TZNAME:CST
DTSTART:20261101T070000
END:STANDARD
BEGIN:DAYLIGHT
TZOFFSETFROM:-0600
TZOFFSETTO:-0500
TZNAME:CDT
DTSTART:20270314T080000
END:DAYLIGHT
BEGIN:STANDARD
TZOFFSETFROM:-0500
TZOFFSETTO:-0600
TZNAME:CST
DTSTART:20271107T070000
END:STANDARD
END:VTIMEZONE
BEGIN:VEVENT
DTSTART;TZID=America/Chicago:20251016T173000
DTEND;TZID=America/Chicago:20251016T183000
DTSTAMP:20260425T075013
CREATED:20250924T183148Z
LAST-MODIFIED:20250924T183148Z
UID:1717-1760635800-1760639400@cmdss.org
SUMMARY:Buddy Blend Packaging
DESCRIPTION:Sign Up Here
URL:https://cmdss.org/event/buddy-blend-packaging/
LOCATION:MS
END:VEVENT
BEGIN:VEVENT
DTSTART;TZID=America/Chicago:20251018T100000
DTEND;TZID=America/Chicago:20251018T110000
DTSTAMP:20260425T075013
CREATED:20250924T184125Z
LAST-MODIFIED:20250924T184125Z
UID:1719-1760781600-1760785200@cmdss.org
SUMMARY:DIY Fuzzy Sock Pumpkins
DESCRIPTION:Calling all crafters!! This is the cutest craft for October! These fuzzy sock pumpkins make for great fall decor. \nSign up here
URL:https://cmdss.org/event/diy-fuzzy-sock-pumpkins/
LOCATION:MS
ATTACH;FMTTYPE=image/webp:https://cmdss.org/wp-content/uploads/2025/09/DIY-fluffy-sock-pumpkins-DIY-Beautify-min.webp
END:VEVENT
BEGIN:VEVENT
DTSTART;TZID=America/Chicago:20251021T173000
DTEND;TZID=America/Chicago:20251021T183000
DTSTAMP:20260425T075013
CREATED:20250924T190006Z
LAST-MODIFIED:20250924T190007Z
UID:1721-1761067800-1761071400@cmdss.org
SUMMARY:Spooky Science Experiments
DESCRIPTION:Our spooky experiments will include: \n\nVanishing Ghosts\nPumpkin Volcanos\nGlow in the dark Slime\n\nAll ages are welcome to join us! \nSign Up Here
URL:https://cmdss.org/event/spooky-science-experiments/
LOCATION:MS
ATTACH;FMTTYPE=image/jpeg:https://cmdss.org/wp-content/uploads/2025/09/13_Halloween_Slime_Recipes_0001.jpg
END:VEVENT
BEGIN:VEVENT
DTSTART;TZID=America/Chicago:20251023T173000
DTEND;TZID=America/Chicago:20251023T183000
DTSTAMP:20260425T075013
CREATED:20250924T183319Z
LAST-MODIFIED:20250924T183319Z
UID:1718-1761240600-1761244200@cmdss.org
SUMMARY:Buddy Blend Packaging
DESCRIPTION:Sign Up Here
URL:https://cmdss.org/event/buddy-blend-packaging-2/
LOCATION:MS
END:VEVENT
BEGIN:VEVENT
DTSTART;TZID=America/Chicago:20251028T173000
DTEND;TZID=America/Chicago:20251028T190000
DTSTAMP:20260425T075013
CREATED:20250924T190847Z
LAST-MODIFIED:20250924T190847Z
UID:1723-1761672600-1761678000@cmdss.org
SUMMARY:Halloween Party
DESCRIPTION:Sign Up Here
URL:https://cmdss.org/event/halloween-party/
LOCATION:MS
ATTACH;FMTTYPE=image/png:https://cmdss.org/wp-content/uploads/2025/09/Halloween-Party.png
END:VEVENT
BEGIN:VEVENT
DTSTART;TZID=America/Chicago:20251101T100000
DTEND;TZID=America/Chicago:20251101T110000
DTSTAMP:20260425T075013
CREATED:20251029T172017Z
LAST-MODIFIED:20251029T175608Z
UID:1731-1761991200-1761994800@cmdss.org
SUMMARY:Move and Groove with Haddie
DESCRIPTION:Come dance with us! All ages are welcome! \nSign-up Here
URL:https://cmdss.org/event/move-and-groove-with-haddie/
LOCATION:MS
END:VEVENT
BEGIN:VEVENT
DTSTART;TZID=America/Chicago:20251104T173000
DTEND;TZID=America/Chicago:20251104T183000
DTSTAMP:20260425T075013
CREATED:20251029T172456Z
LAST-MODIFIED:20251029T172456Z
UID:1732-1762277400-1762281000@cmdss.org
SUMMARY:Watercolor Fall Leaf Painting
DESCRIPTION:All ages are welcome to join! \nWe will be making our own versions of this beautiful watercolor painting. \nSign-up Here
URL:https://cmdss.org/event/watercolor-fall-leaf-painting/
LOCATION:MS
ATTACH;FMTTYPE=image/jpeg:https://cmdss.org/wp-content/uploads/2025/10/watercolor-resist-leaves-feature.jpg
END:VEVENT
BEGIN:VEVENT
DTSTART;TZID=America/Chicago:20251108T100000
DTEND;TZID=America/Chicago:20251108T110000
DTSTAMP:20260425T075013
CREATED:20251029T172647Z
LAST-MODIFIED:20251029T172647Z
UID:1734-1762596000-1762599600@cmdss.org
SUMMARY:Buddy Blend Packing
DESCRIPTION:Ages 16+ \nCome join us as we put together our Buddy Blend Coffee packages to sell. \nSign-up Here
URL:https://cmdss.org/event/buddy-blend-packing/
LOCATION:MS
END:VEVENT
BEGIN:VEVENT
DTSTART;TZID=America/Chicago:20251111T173000
DTEND;TZID=America/Chicago:20251111T183000
DTSTAMP:20260425T075013
CREATED:20251029T173148Z
LAST-MODIFIED:20251029T173148Z
UID:1735-1762882200-1762885800@cmdss.org
SUMMARY:Thanksgiving Bingo
DESCRIPTION:All ages welcome! \nJoin us for a rousing game of Bingo- Thanksgiving style! There will be small prizes for the winners. \nSign-up Here
URL:https://cmdss.org/event/thanksgiving-bingo/
LOCATION:MS
ATTACH;FMTTYPE=image/webp:https://cmdss.org/wp-content/uploads/2025/10/thanksgiving-bingo-1.png.webp
END:VEVENT
BEGIN:VEVENT
DTSTART;TZID=America/Chicago:20251114T173000
DTEND;TZID=America/Chicago:20251114T193000
DTSTAMP:20260425T075013
CREATED:20251029T173613Z
LAST-MODIFIED:20251029T175434Z
UID:1737-1763141400-1763148600@cmdss.org
SUMMARY:Family Movie Night
DESCRIPTION:Please RSVP to Tia via email: tia@cmdss.org \nInclude how many members of your family will be attending. I will be sending a poll to families that RSVP to select the movie choice later this month. \nSign-up Here
URL:https://cmdss.org/event/family-movie-night/
LOCATION:MS
ATTACH;FMTTYPE=image/png:https://cmdss.org/wp-content/uploads/2025/10/Family-Movie-Night.png
END:VEVENT
BEGIN:VEVENT
DTSTART;TZID=America/Chicago:20251118T173000
DTEND;TZID=America/Chicago:20251118T183000
DTSTAMP:20260425T075013
CREATED:20251029T174155Z
LAST-MODIFIED:20251029T175252Z
UID:1739-1763487000-1763490600@cmdss.org
SUMMARY:Bucket Drumming Class
DESCRIPTION:All ages welcome! \nJoin us as volunteer\, Amy Whittenton\, leads a class on bucket drumming! It is sure to be a good time. \nSign-up Here
URL:https://cmdss.org/event/bucket-drumming-class/
LOCATION:MS
ATTACH;FMTTYPE=image/webp:https://cmdss.org/wp-content/uploads/2025/10/1-768x1024.jpg.webp
END:VEVENT
BEGIN:VEVENT
DTSTART;TZID=America/Chicago:20251120T173000
DTEND;TZID=America/Chicago:20251120T183000
DTSTAMP:20260425T075013
CREATED:20251029T175156Z
LAST-MODIFIED:20251029T175156Z
UID:1744-1763659800-1763663400@cmdss.org
SUMMARY:Buddy Blend Packing
DESCRIPTION:Ages 16+ \nCome join us as we put together our Buddy Blend Coffee packages to sell. \nSign-up Here
URL:https://cmdss.org/event/buddy-blend-packing-2/
LOCATION:MS
END:VEVENT
BEGIN:VEVENT
DTSTART;TZID=America/Chicago:20251122T100000
DTEND;TZID=America/Chicago:20251122T110000
DTSTAMP:20260425T075013
CREATED:20251029T174653Z
LAST-MODIFIED:20251029T175228Z
UID:1741-1763805600-1763809200@cmdss.org
SUMMARY:Holiday Card Making
DESCRIPTION:All ages welcome! \nCome get crafty and create holiday cards for loved ones! \nSign-up Here
URL:https://cmdss.org/event/holiday-card-making/
LOCATION:MS
ATTACH;FMTTYPE=image/jpeg:https://cmdss.org/wp-content/uploads/2025/10/Christmas-Card-Craft-Handmade-1.jpg
END:VEVENT
BEGIN:VEVENT
DTSTART;TZID=America/Chicago:20251124T140000
DTEND;TZID=America/Chicago:20251124T150000
DTSTAMP:20260425T075013
CREATED:20251029T175033Z
LAST-MODIFIED:20251029T175033Z
UID:1743-1763992800-1763996400@cmdss.org
SUMMARY:Bowling with Jackson Prep Soccer Team
DESCRIPTION:Jackson Prep’s Boy’s Soccer Team is sponsoring a bowling activity at Fannin Lanes on 11/24 at 2PM. \nThey will cover the cost of bowling for 1 hour+ shoes as a service project for our Buddies! \nAll ages are welcome\, but spots are limited. Make sure to sign-up before they are gone. \nSign-up Here
URL:https://cmdss.org/event/bowling-with-jackson-prep-soccer-team/
LOCATION:MS
END:VEVENT
BEGIN:VEVENT
DTSTART;TZID=America/Chicago:20251202T173000
DTEND;TZID=America/Chicago:20251202T183000
DTSTAMP:20260425T075013
CREATED:20251201T180613Z
LAST-MODIFIED:20251201T180613Z
UID:1750-1764696600-1764700200@cmdss.org
SUMMARY:Canvas Christmas Tree Art
DESCRIPTION:Come create a beautiful Canvas Christmas Tree piece with the students from Jackson Prep’s art club! \nSign-up Here
URL:https://cmdss.org/event/canvas-christmas-tree-art/
LOCATION:MS
ATTACH;FMTTYPE=image/jpeg:https://cmdss.org/wp-content/uploads/2025/12/Christmas-Tree-Canvas-Art.jpg
END:VEVENT
BEGIN:VEVENT
DTSTART;TZID=America/Chicago:20251206T180000
DTEND;TZID=America/Chicago:20251206T210000
DTSTAMP:20260425T075013
CREATED:20251201T182051Z
LAST-MODIFIED:20251201T182051Z
UID:1752-1765044000-1765054800@cmdss.org
SUMMARY:Holiday Party
DESCRIPTION:Join us at The Mississippi Children’s Museum from 6PM-9PM. We will have the museum all to ourselves\, yummy food and even Santa! \nSign-up Here
URL:https://cmdss.org/event/holiday-party/
LOCATION:MS
END:VEVENT
BEGIN:VEVENT
DTSTART;TZID=America/Chicago:20251209T173000
DTEND;TZID=America/Chicago:20251209T183000
DTSTAMP:20260425T075013
CREATED:20251201T182229Z
LAST-MODIFIED:20251201T182229Z
UID:1753-1765301400-1765305000@cmdss.org
SUMMARY:Holiday Minute-to-win-it Games
DESCRIPTION:Sign-up Here
URL:https://cmdss.org/event/holiday-minute-to-win-it-games/
LOCATION:MS
END:VEVENT
BEGIN:VEVENT
DTSTART;TZID=America/Chicago:20251213T090000
DTEND;TZID=America/Chicago:20251213T130000
DTSTAMP:20260425T075013
CREATED:20251201T182533Z
LAST-MODIFIED:20251201T182533Z
UID:1754-1765616400-1765630800@cmdss.org
SUMMARY:Parents' Morning Out
DESCRIPTION:Need to wrap presents\, grab last minute gifts\, have a brunch date or just want a few hours to yourself? Sign up for our respite care at the Buddy Center on December 13th. Please be sure to send a lunch with your Buddy! \nSign-up here
URL:https://cmdss.org/event/parents-morning-out/
LOCATION:MS
END:VEVENT
BEGIN:VEVENT
DTSTART;TZID=America/Chicago:20251216T173000
DTEND;TZID=America/Chicago:20251216T183000
DTSTAMP:20260425T075013
CREATED:20251201T182726Z
LAST-MODIFIED:20251201T182726Z
UID:1755-1765906200-1765909800@cmdss.org
SUMMARY:Name that Tune- Holiday Edition
DESCRIPTION:Which team can guess the song the fastest?? Come join us to find out! Dinner will be provided for Buddies and their families. \nSign-up Here
URL:https://cmdss.org/event/name-that-tune-holiday-edition/
LOCATION:MS
END:VEVENT
BEGIN:VEVENT
DTSTART;TZID=America/Chicago:20251218T173000
DTEND;TZID=America/Chicago:20251218T183000
DTSTAMP:20260425T075013
CREATED:20251201T182846Z
LAST-MODIFIED:20251201T182846Z
UID:1756-1766079000-1766082600@cmdss.org
SUMMARY:Gingerbread House Decorating
DESCRIPTION:Let your creativity shine as we transform plain gingerbread houses into winter wonderlands! \nSign-up Here
URL:https://cmdss.org/event/gingerbread-house-decorating/
LOCATION:MS
END:VEVENT
BEGIN:VEVENT
DTSTART;TZID=America/Chicago:20260106T173000
DTEND;TZID=America/Chicago:20260106T183000
DTSTAMP:20260425T075013
CREATED:20251229T183725Z
LAST-MODIFIED:20251229T183725Z
UID:1766-1767720600-1767724200@cmdss.org
SUMMARY:2026 Vision Boards
DESCRIPTION:All ages welcome. Create a collage using pictures from magazines to help focus on 2026 goals. \nSign up here \n 
URL:https://cmdss.org/event/2026-vision-boards/
LOCATION:The Buddy Center\, 667 US-51 Suite C\, Ridgeland\, MS\, 39157\, United States
END:VEVENT
BEGIN:VEVENT
DTSTART;TZID=America/Chicago:20260108T173000
DTEND;TZID=America/Chicago:20260108T183000
DTSTAMP:20260425T075013
CREATED:20251229T184057Z
LAST-MODIFIED:20251229T184058Z
UID:1767-1767893400-1767897000@cmdss.org
SUMMARY:Buddy Blend Packaging
DESCRIPTION:Ages 16+. Help package coffee to sell at pop ups and our gift shop. \nSign up here
URL:https://cmdss.org/event/buddy-blend-packaging-3/
LOCATION:The Buddy Center\, 667 US-51 Suite C\, Ridgeland\, MS\, 39157\, United States
END:VEVENT
BEGIN:VEVENT
DTSTART;TZID=America/Chicago:20260110T090000
DTEND;TZID=America/Chicago:20260110T100000
DTSTAMP:20260425T075013
CREATED:20251229T184540Z
LAST-MODIFIED:20260106T204253Z
UID:1769-1768035600-1768039200@cmdss.org
SUMMARY:Move and Groove with Haddie
DESCRIPTION:All ages welcome. Participate in a fun fitness/dance class with volunteer\, Haddie! \nSign up here
URL:https://cmdss.org/event/move-and-groove-with-haddie-2/
LOCATION:The Buddy Center\, 667 US-51 Suite C\, Ridgeland\, MS\, 39157\, United States
END:VEVENT
BEGIN:VEVENT
DTSTART;TZID=America/Chicago:20260113T173000
DTEND;TZID=America/Chicago:20260113T183000
DTSTAMP:20260425T075013
CREATED:20251229T184351Z
LAST-MODIFIED:20251229T184352Z
UID:1768-1768325400-1768329000@cmdss.org
SUMMARY:Art class with JP art club
DESCRIPTION:All ages welcome. Create a special art piece to sell in our Art/Silent auction in March. Class will be led by Jackson Prep students. \nSign up here
URL:https://cmdss.org/event/art-class-with-jp-art-club/
LOCATION:The Buddy Center\, 667 US-51 Suite C\, Ridgeland\, MS\, 39157\, United States
END:VEVENT
BEGIN:VEVENT
DTSTART;TZID=America/Chicago:20260120T173000
DTEND;TZID=America/Chicago:20260120T183000
DTSTAMP:20260425T075013
CREATED:20251229T184714Z
LAST-MODIFIED:20251229T184714Z
UID:1770-1768930200-1768933800@cmdss.org
SUMMARY:Candle making class
DESCRIPTION:Ages 10+. Help us create a signature CMDSS candle with a coffee scent. \nSign up here
URL:https://cmdss.org/event/candle-making-class/
LOCATION:The Buddy Center\, 667 US-51 Suite C\, Ridgeland\, MS\, 39157\, United States
END:VEVENT
BEGIN:VEVENT
DTSTART;TZID=America/Chicago:20260122T173000
DTEND;TZID=America/Chicago:20260122T183000
DTSTAMP:20260425T075013
CREATED:20251229T184940Z
LAST-MODIFIED:20251229T184940Z
UID:1771-1769103000-1769106600@cmdss.org
SUMMARY:Life skills with Maria
DESCRIPTION:All ages welcome. Join our OT capstone student with this special programming concentrated on learning life skills. This is the first in a series of 8 classes. \nSign up here
URL:https://cmdss.org/event/life-skills-with-maria/
LOCATION:The Buddy Center\, 667 US-51 Suite C\, Ridgeland\, MS\, 39157\, United States
END:VEVENT
BEGIN:VEVENT
DTSTART;TZID=America/Chicago:20260127T173000
DTEND;TZID=America/Chicago:20260127T183000
DTSTAMP:20260425T075013
CREATED:20251229T185159Z
LAST-MODIFIED:20251229T185159Z
UID:1772-1769535000-1769538600@cmdss.org
SUMMARY:Bucket Drumming Class
DESCRIPTION:All ages welcome. Learn how to play a bucket drum with volunteer Amy Whittenton. \nSign up here
URL:https://cmdss.org/event/bucket-drumming-class-2/
LOCATION:The Buddy Center\, 667 US-51 Suite C\, Ridgeland\, MS\, 39157\, United States
END:VEVENT
BEGIN:VEVENT
DTSTART;TZID=America/Chicago:20260131T100000
DTEND;TZID=America/Chicago:20260131T110000
DTSTAMP:20260425T075013
CREATED:20251229T185341Z
LAST-MODIFIED:20251229T185341Z
UID:1773-1769853600-1769857200@cmdss.org
SUMMARY:Winter Science Experiments
DESCRIPTION:All ages welcome. Join us as we create a snowstorm in a jar\, make snow slime\, build a snowball launcher and more. \nSign up here
URL:https://cmdss.org/event/winter-science-experiments/
LOCATION:The Buddy Center\, 667 US-51 Suite C\, Ridgeland\, MS\, 39157\, United States
END:VEVENT
BEGIN:VEVENT
DTSTART;TZID=America/Chicago:20260203T173000
DTEND;TZID=America/Chicago:20260203T183000
DTSTAMP:20260425T075013
CREATED:20260127T183837Z
LAST-MODIFIED:20260127T183837Z
UID:1780-1770139800-1770143400@cmdss.org
SUMMARY:Life Skills with Maria
DESCRIPTION:Come for a class on etiquette taught by our OT student! Participants will learn how to enforce personal space/boundaries\, manners\, phone etiquette\, voice volume levels\, and appropriate behaviors. \nSign up here
URL:https://cmdss.org/event/life-skills-with-maria-2/
LOCATION:The Buddy Center\, 667 US-51 Suite C\, Ridgeland\, MS\, 39157\, United States
END:VEVENT
BEGIN:VEVENT
DTSTART;TZID=America/Chicago:20260207T100000
DTEND;TZID=America/Chicago:20260207T110000
DTSTAMP:20260425T075013
CREATED:20260127T184937Z
LAST-MODIFIED:20260127T193407Z
UID:1781-1770458400-1770462000@cmdss.org
SUMMARY:Zumba
DESCRIPTION:Get moving with Zumba at the Buddy Center. This fun\, high-energy class uses music and dance to work on bilateral coordination\, balance\, endurance\, and body awareness. Participants practice following directions\, crossing midline\, and staying engaged! \nAll ages welcome. This class will be held in the BuddyFit room. \nSign up here
URL:https://cmdss.org/event/zumba/
LOCATION:The Buddy Center\, 667 US-51 Suite C\, Ridgeland\, MS\, 39157\, United States
ATTACH;FMTTYPE=image/jpeg:https://cmdss.org/wp-content/uploads/2026/01/zumba.jpeg
END:VEVENT
END:VCALENDAR