BEGIN:VCALENDAR
VERSION:2.0
PRODID:-//Central Mississippi Down Syndrome Society - ECPv6.15.12.2//NONSGML v1.0//EN
CALSCALE:GREGORIAN
METHOD:PUBLISH
X-WR-CALNAME:Central Mississippi Down Syndrome Society
X-ORIGINAL-URL:https://cmdss.org
X-WR-CALDESC:Events for Central Mississippi Down Syndrome Society
REFRESH-INTERVAL;VALUE=DURATION:PT1H
X-Robots-Tag:noindex
X-PUBLISHED-TTL:PT1H
BEGIN:VTIMEZONE
TZID:America/Chicago
BEGIN:DAYLIGHT
TZOFFSETFROM:-0600
TZOFFSETTO:-0500
TZNAME:CDT
DTSTART:20240310T080000
END:DAYLIGHT
BEGIN:STANDARD
TZOFFSETFROM:-0500
TZOFFSETTO:-0600
TZNAME:CST
DTSTART:20241103T070000
END:STANDARD
BEGIN:DAYLIGHT
TZOFFSETFROM:-0600
TZOFFSETTO:-0500
TZNAME:CDT
DTSTART:20250309T080000
END:DAYLIGHT
BEGIN:STANDARD
TZOFFSETFROM:-0500
TZOFFSETTO:-0600
TZNAME:CST
DTSTART:20251102T070000
END:STANDARD
BEGIN:DAYLIGHT
TZOFFSETFROM:-0600
TZOFFSETTO:-0500
TZNAME:CDT
DTSTART:20260308T080000
END:DAYLIGHT
BEGIN:STANDARD
TZOFFSETFROM:-0500
TZOFFSETTO:-0600
TZNAME:CST
DTSTART:20261101T070000
END:STANDARD
END:VTIMEZONE
BEGIN:VEVENT
DTSTART;TZID=America/Chicago:20250909T173000
DTEND;TZID=America/Chicago:20250909T183000
DTSTAMP:20260425T054130
CREATED:20250902T213326Z
LAST-MODIFIED:20250902T213507Z
UID:1694-1757439000-1757442600@cmdss.org
SUMMARY:First Fall Buddy Blend Packing Program
DESCRIPTION:Sign Up Here
URL:https://cmdss.org/event/first-fall-buddy-blend-packing-program/
LOCATION:MS
END:VEVENT
BEGIN:VEVENT
DTSTART;TZID=America/Chicago:20250911T173000
DTEND;TZID=America/Chicago:20250911T183000
DTSTAMP:20260425T054130
CREATED:20250905T164522Z
LAST-MODIFIED:20250905T164522Z
UID:1710-1757611800-1757615400@cmdss.org
SUMMARY:Buddy Walk Dance Practice
DESCRIPTION:Join Haddie and the crew for dance practice! \nSign up here!
URL:https://cmdss.org/event/buddy-walk-dance-practice-3/
LOCATION:MS
END:VEVENT
BEGIN:VEVENT
DTSTART;TZID=America/Chicago:20250913T090000
DTEND;TZID=America/Chicago:20250913T120000
DTSTAMP:20260425T054130
CREATED:20250905T164314Z
LAST-MODIFIED:20250905T164314Z
UID:1708-1757754000-1757764800@cmdss.org
SUMMARY:Coffee for a Cause Fundraiser
DESCRIPTION:Make sure to tell all your family and friends to support CMDSS at Fusion Coffeehouse (1111 Highland Colony Pkwy\, Ridgeland) by buying a bag of our Buddy Blend coffee.
URL:https://cmdss.org/event/coffee-for-a-cause-fundraiser/
LOCATION:Fusion Coffeehouse\, 1111 Highland Colony Pkwy\, Ridgeland\, MS\, United States
END:VEVENT
BEGIN:VEVENT
DTSTART;TZID=America/Chicago:20250916T173000
DTEND;TZID=America/Chicago:20250916T183000
DTSTAMP:20260425T054130
CREATED:20250905T144408Z
LAST-MODIFIED:20250905T165437Z
UID:1699-1758043800-1758047400@cmdss.org
SUMMARY:Sunflower Painting Activity with Tia
DESCRIPTION:Come create a fun fall picture you can display for the season. \nPlease bring one empty toilet paper tube\, if able. \nSign Up Now!
URL:https://cmdss.org/event/sunflower-painting-activity-with-tia/
LOCATION:MS
ATTACH;FMTTYPE=image/jpeg:https://cmdss.org/wp-content/uploads/2025/09/Sunflower-Prints.jpg
END:VEVENT
BEGIN:VEVENT
DTSTART;TZID=America/Chicago:20250920T100000
DTEND;TZID=America/Chicago:20250920T104500
DTSTAMP:20260425T054130
CREATED:20250905T153255Z
LAST-MODIFIED:20250905T153835Z
UID:1702-1758362400-1758365100@cmdss.org
SUMMARY:Buddy Walk Dance Practice
DESCRIPTION:Join Haddie and the crew for dance practice! \nSign up here!
URL:https://cmdss.org/event/buddy-walk-dance-practice/
LOCATION:MS
END:VEVENT
BEGIN:VEVENT
DTSTART;TZID=America/Chicago:20250923T173000
DTEND;TZID=America/Chicago:20250923T183000
DTSTAMP:20260425T054130
CREATED:20250905T153734Z
LAST-MODIFIED:20250905T153748Z
UID:1703-1758648600-1758652200@cmdss.org
SUMMARY:Buddy Blend Coffee Packaging Night
DESCRIPTION:Sign up here!
URL:https://cmdss.org/event/buddy-blend-coffee-packaging-night/
LOCATION:MS
END:VEVENT
BEGIN:VEVENT
DTSTART;TZID=America/Chicago:20250927T100000
DTEND;TZID=America/Chicago:20250927T104500
DTSTAMP:20260425T054130
CREATED:20250905T154113Z
LAST-MODIFIED:20250905T154113Z
UID:1706-1758967200-1758969900@cmdss.org
SUMMARY:Buddy Walk Dance Practice
DESCRIPTION:Join Haddie and the crew for dance practice! \nSign up here!
URL:https://cmdss.org/event/buddy-walk-dance-practice-2/
LOCATION:MS
END:VEVENT
BEGIN:VEVENT
DTSTART;TZID=America/Chicago:20250930T173000
DTEND;TZID=America/Chicago:20250930T183000
DTSTAMP:20260425T054130
CREATED:20250905T154655Z
LAST-MODIFIED:20250905T165227Z
UID:1707-1759253400-1759257000@cmdss.org
SUMMARY:Apple Pie in a Cup Activity
DESCRIPTION:Join us as we explore how to read a recipe\, practice measuring ingredients\, and enjoy a yummy fall snack! \nSign up here! 
URL:https://cmdss.org/event/apple-pie-in-a-cup-activity/
LOCATION:MS
ATTACH;FMTTYPE=image/png:https://cmdss.org/wp-content/uploads/2025/09/Apple-Pie-in-a-Cup-The-Printable-Princess.png
END:VEVENT
END:VCALENDAR